BEGIN:VCALENDAR
VERSION:2.0
PRODID:-//Compagnie Aes Dana - ECPv5.3.1.1//NONSGML v1.0//EN
CALSCALE:GREGORIAN
METHOD:PUBLISH
X-WR-CALNAME:Compagnie Aes Dana
X-ORIGINAL-URL:https://compagnie-aes-dana.fr
X-WR-CALDESC:évènements pour Compagnie Aes Dana
BEGIN:VTIMEZONE
TZID:Europe/Paris
BEGIN:DAYLIGHT
TZOFFSETFROM:+0100
TZOFFSETTO:+0200
TZNAME:CEST
DTSTART:20210328T010000
END:DAYLIGHT
BEGIN:STANDARD
TZOFFSETFROM:+0200
TZOFFSETTO:+0100
TZNAME:CET
DTSTART:20211031T010000
END:STANDARD
END:VTIMEZONE
BEGIN:VEVENT
DTSTART;VALUE=DATE:20210724
DTEND;VALUE=DATE:20210726
DTSTAMP:20260421T135154
CREATED:20210315T112555Z
LAST-MODIFIED:20210329T160207Z
UID:1468-1627084800-1627257599@compagnie-aes-dana.fr
SUMMARY:Théâtre musical : Le Fantôme de Ménandre
DESCRIPTION:Théâtre musical : le  «  Le Fantôme de Ménandre » \nles 24 et 25 Juillet 2021 \nMusée Archéologique de Vieux la Romaine (14)  
URL:https://compagnie-aes-dana.fr/event/theatre-musical-le-fantome-de-menandre/
LOCATION:Vieux La romaine\, France
CATEGORIES:Théatre musical
ATTACH;FMTTYPE=image/jpeg:https://compagnie-aes-dana.fr/wp-content/uploads/2021/03/imagin-17-copie.jpg
END:VEVENT
END:VCALENDAR